BEGIN:VCALENDAR
VERSION:2.0
PRODID:-//Plone.org//NONSGML plone.app.event//EN
X-WR-TIMEZONE:Europe/Berlin
BEGIN:VEVENT
SUMMARY:Visualise data with Python from 14–18 Jun 2021
DTSTART;TZID=Europe/Berlin;VALUE=DATE-TIME:20210614T090000
DTEND;TZID=Europe/Berlin;VALUE=DATE-TIME:20210618T170000
DTSTAMP;VALUE=DATE-TIME:20260422T132720Z
UID:50407ecc19c14dfdb26bd77cfbe1e4d3@old.cusy.io
ATTENDEE;CN="min. 1, max. 8 people; the third employee participates free o
 f charge.";ROLE=REQ-PARTICIPANT:min. 1, max. 8 people; the third employee 
 participates free of charge.
CATEGORIES:Training
CONTACT:Veit Schiele\, +49 30 22430082\, trainings@cusy.io
CREATED;VALUE=DATE-TIME:20210610T100313Z
LAST-MODIFIED;VALUE=DATE-TIME:20200909T154619Z
LOCATION:Online
URL:https://old.cusy.io/en/our-training-courses/visualise-data-with-python
 -from-14-18-jun-2021
END:VEVENT
BEGIN:VTIMEZONE
TZID:Europe/Berlin
X-LIC-LOCATION:Europe/Berlin
BEGIN:DAYLIGHT
DTSTART;VALUE=DATE-TIME:20210328T030000
TZNAME:CEST
TZOFFSETFROM:+0100
TZOFFSETTO:+0200
END:DAYLIGHT
END:VTIMEZONE
END:VCALENDAR
