BEGIN:VCALENDAR
VERSION:2.0
PRODID:-//Plone.org//NONSGML plone.app.event//EN
X-WR-TIMEZONE:Europe/Berlin
BEGIN:VEVENT
SUMMARY:Save versioned code and data from 8–10 Mar 2021
DTSTART;TZID=Europe/Berlin;VALUE=DATE-TIME:20210308T090000
DTEND;TZID=Europe/Berlin;VALUE=DATE-TIME:20210310T170000
DTSTAMP;VALUE=DATE-TIME:20260422T132949Z
UID:5db618f8d36f48ffaa571faa37d83a70@old.cusy.io
ATTENDEE;CN="min. 1, max. 8 people; the third employee participates free o
 f charge.";ROLE=REQ-PARTICIPANT:min. 1, max. 8 people; the third employee 
 participates free of charge.
CATEGORIES:Training
CONTACT:Veit Schiele\, +49 30 22430082\, trainings@cusy.io
CREATED;VALUE=DATE-TIME:20210610T100313Z
LAST-MODIFIED;VALUE=DATE-TIME:20200914T234933Z
LOCATION:Online
URL:https://old.cusy.io/en/our-training-courses/save-versioned-code-and-da
 ta-from-8-10-mar-2021
END:VEVENT
BEGIN:VTIMEZONE
TZID:Europe/Berlin
X-LIC-LOCATION:Europe/Berlin
BEGIN:STANDARD
DTSTART;VALUE=DATE-TIME:20201025T020000
TZNAME:CET
TZOFFSETFROM:+0200
TZOFFSETTO:+0100
END:STANDARD
END:VTIMEZONE
END:VCALENDAR
