BEGIN:VCALENDAR
VERSION:2.0
PRODID:-//Plone.org//NONSGML plone.app.event//EN
X-WR-TIMEZONE:Europe/Berlin
BEGIN:VEVENT
SUMMARY:Reading and writing data with Python from 8–10 Feb 2021
DTSTART;TZID=Europe/Berlin;VALUE=DATE-TIME:20210208T090000
DTEND;TZID=Europe/Berlin;VALUE=DATE-TIME:20210210T170000
DTSTAMP;VALUE=DATE-TIME:20260422T133021Z
UID:da0bef8c693d4b98a601a6f6474e3819@old.cusy.io
ATTENDEE;CN="min. 1, max. 8 people; the third employee participates free o
 f charge.";ROLE=REQ-PARTICIPANT:min. 1, max. 8 people; the third employee 
 participates free of charge.
CATEGORIES:Training
CONTACT:Veit Schiele\, +49 30 22430082\, trainings@cusy.io
CREATED;VALUE=DATE-TIME:20210610T100312Z
LAST-MODIFIED;VALUE=DATE-TIME:20200908T104221Z
LOCATION:Online
URL:https://old.cusy.io/en/our-training-courses/reading-and-writing-data-w
 ith-python-from-8-10-feb-2021
END:VEVENT
BEGIN:VTIMEZONE
TZID:Europe/Berlin
X-LIC-LOCATION:Europe/Berlin
BEGIN:STANDARD
DTSTART;VALUE=DATE-TIME:20201025T020000
TZNAME:CET
TZOFFSETFROM:+0200
TZOFFSETTO:+0100
END:STANDARD
END:VTIMEZONE
END:VCALENDAR
