BEGIN:VCALENDAR
VERSION:2.0
PRODID:-//Plone.org//NONSGML plone.app.event//EN
X-WR-TIMEZONE:Europe/Berlin
BEGIN:VEVENT
SUMMARY:Python for Beginners from 12–15 Apr 2021
DTSTART;TZID=Europe/Berlin;VALUE=DATE-TIME:20210412T090000
DTEND;TZID=Europe/Berlin;VALUE=DATE-TIME:20210415T170000
DTSTAMP;VALUE=DATE-TIME:20260422T132843Z
UID:53ae0831d8b14f899906bc8841c41071@old.cusy.io
ATTENDEE;CN="min. 1, max. 8 people; the third employee participates free o
 f charge.";ROLE=REQ-PARTICIPANT:min. 1, max. 8 people; the third employee 
 participates free of charge.
CATEGORIES:Training
CONTACT:Veit Schiele\, +49 30 22430082\, trainings@cusy.io
CREATED;VALUE=DATE-TIME:20210610T100311Z
LAST-MODIFIED;VALUE=DATE-TIME:20200913T173909Z
LOCATION:Online
URL:https://old.cusy.io/en/our-training-courses/python-for-beginners-2020-
 04-12
END:VEVENT
BEGIN:VTIMEZONE
TZID:Europe/Berlin
X-LIC-LOCATION:Europe/Berlin
BEGIN:DAYLIGHT
DTSTART;VALUE=DATE-TIME:20210328T030000
TZNAME:CEST
TZOFFSETFROM:+0100
TZOFFSETTO:+0200
END:DAYLIGHT
END:VTIMEZONE
END:VCALENDAR
