BEGIN:VCALENDAR
VERSION:2.0
PRODID:-//Plone.org//NONSGML plone.app.event//EN
X-WR-TIMEZONE:Europe/Berlin
BEGIN:VEVENT
SUMMARY:Data processing with NumPy from 26–27 Apr 2021
DTSTART;TZID=Europe/Berlin;VALUE=DATE-TIME:20210426T090000
DTEND;TZID=Europe/Berlin;VALUE=DATE-TIME:20210427T170000
DTSTAMP;VALUE=DATE-TIME:20260422T133024Z
UID:4e9ce65ecbcc48b2b5df9397691f5229@old.cusy.io
CATEGORIES:Training
CONTACT:Veit Schiele\, +49 30 22430082\, trainings@cusy.io
CREATED;VALUE=DATE-TIME:20210610T100310Z
LAST-MODIFIED;VALUE=DATE-TIME:20200913T163719Z
LOCATION:Online
URL:https://old.cusy.io/en/our-training-courses/data-processing-with-numpy
 -from-26-27-april-2021
END:VEVENT
BEGIN:VTIMEZONE
TZID:Europe/Berlin
X-LIC-LOCATION:Europe/Berlin
BEGIN:DAYLIGHT
DTSTART;VALUE=DATE-TIME:20210328T030000
TZNAME:CEST
TZOFFSETFROM:+0100
TZOFFSETTO:+0200
END:DAYLIGHT
END:VTIMEZONE
END:VCALENDAR
