BEGIN:VCALENDAR
VERSION:2.0
PRODID:-//Plone.org//NONSGML plone.app.event//EN
X-WR-TIMEZONE:Europe/Berlin
BEGIN:VEVENT
SUMMARY:Data processing with NumPy from 18–19 Jan 2021
DTSTART;TZID=Europe/Berlin;VALUE=DATE-TIME:20210118T090000
DTEND;TZID=Europe/Berlin;VALUE=DATE-TIME:20210119T170000
DTSTAMP;VALUE=DATE-TIME:20260422T133025Z
UID:80d9f056d3bb4f1cba7694391920ad03@old.cusy.io
CATEGORIES:Training
CONTACT:Veit Schiele\, +49 30 22430082\, trainings@cusy.io
CREATED;VALUE=DATE-TIME:20210610T100310Z
LAST-MODIFIED;VALUE=DATE-TIME:20200913T163625Z
LOCATION:Online
URL:https://old.cusy.io/en/our-training-courses/data-processing-with-numpy
 -from-18-201319-january-2021
END:VEVENT
BEGIN:VTIMEZONE
TZID:Europe/Berlin
X-LIC-LOCATION:Europe/Berlin
BEGIN:STANDARD
DTSTART;VALUE=DATE-TIME:20201025T020000
TZNAME:CET
TZOFFSETFROM:+0200
TZOFFSETTO:+0100
END:STANDARD
END:VTIMEZONE
END:VCALENDAR
