BEGIN:VCALENDAR
VERSION:2.0
PRODID:-//Plone.org//NONSGML plone.app.event//EN
X-WR-TIMEZONE:Europe/Berlin
BEGIN:VEVENT
SUMMARY:Data processing with NumPy from 18–19 Oct 2021
DTSTART;TZID=Europe/Berlin;VALUE=DATE-TIME:20211018T090000
DTEND;TZID=Europe/Berlin;VALUE=DATE-TIME:20211019T170000
DTSTAMP;VALUE=DATE-TIME:20260422T132908Z
UID:3020a5cd0d14464ca60300a8386ff9fe@old.cusy.io
CATEGORIES:Training
CONTACT:Veit Schiele\, +49 30 22430082\, trainings@cusy.io
CREATED;VALUE=DATE-TIME:20210610T100310Z
LAST-MODIFIED;VALUE=DATE-TIME:20200913T163542Z
LOCATION:Online
URL:https://old.cusy.io/en/our-training-courses/data-processing-with-numpy
 -from-18-19-oct-2021
END:VEVENT
BEGIN:VTIMEZONE
TZID:Europe/Berlin
X-LIC-LOCATION:Europe/Berlin
BEGIN:DAYLIGHT
DTSTART;VALUE=DATE-TIME:20210328T030000
TZNAME:CEST
TZOFFSETFROM:+0100
TZOFFSETTO:+0200
END:DAYLIGHT
END:VTIMEZONE
END:VCALENDAR
