BEGIN:VCALENDAR
VERSION:2.0
PRODID:-//Plone.org//NONSGML plone.app.event//EN
X-WR-TIMEZONE:Europe/Berlin
BEGIN:VEVENT
SUMMARY:Data analysis in Python from 28–29 Apr 2021
DTSTART;TZID=Europe/Berlin;VALUE=DATE-TIME:20210428T090000
DTEND;TZID=Europe/Berlin;VALUE=DATE-TIME:20210429T170000
DTSTAMP;VALUE=DATE-TIME:20260422T132832Z
UID:11ba179fb7bf4ac68eaebd49ff91b608@old.cusy.io
ATTENDEE;CN="min. 1, max. 8 people; the third employee participates free o
 f charge.";ROLE=REQ-PARTICIPANT:min. 1, max. 8 people; the third employee 
 participates free of charge.
CATEGORIES:Training
CONTACT:Veit Schiele\, +49 30 22430082\, trainings@cusy.io
CREATED;VALUE=DATE-TIME:20210610T100310Z
DESCRIPTION:The Python library pandas offers a practical everyday tool for
  analysing tabular data.
LAST-MODIFIED;VALUE=DATE-TIME:20200913T163239Z
LOCATION:Online
URL:https://old.cusy.io/en/our-training-courses/data-analysis-in-python-fr
 om-28-29-april-2021
END:VEVENT
BEGIN:VTIMEZONE
TZID:Europe/Berlin
X-LIC-LOCATION:Europe/Berlin
BEGIN:DAYLIGHT
DTSTART;VALUE=DATE-TIME:20210328T030000
TZNAME:CEST
TZOFFSETFROM:+0100
TZOFFSETTO:+0200
END:DAYLIGHT
END:VTIMEZONE
END:VCALENDAR
