BEGIN:VCALENDAR
VERSION:2.0
PRODID:-//Plone.org//NONSGML plone.app.event//EN
X-WR-TIMEZONE:Europe/Berlin
BEGIN:VEVENT
SUMMARY:Data analysis in Python from 20–21 Oct 2021
DTSTART;TZID=Europe/Berlin;VALUE=DATE-TIME:20211020T090000
DTEND;TZID=Europe/Berlin;VALUE=DATE-TIME:20211021T170000
DTSTAMP;VALUE=DATE-TIME:20260422T132719Z
UID:b7c72e77852d4616b2274e6b37e6d28d@old.cusy.io
ATTENDEE;CN="min. 1, max. 8 people; the third employee participates free o
 f charge.";ROLE=REQ-PARTICIPANT:min. 1, max. 8 people; the third employee 
 participates free of charge.
CATEGORIES:Training
CONTACT:Veit Schiele\, +49 30 22430082\, trainings@cusy.io
CREATED;VALUE=DATE-TIME:20210610T100309Z
DESCRIPTION:The Python library pandas offers a practical everyday tool for
  analysing tabular data.
LAST-MODIFIED;VALUE=DATE-TIME:20200913T163144Z
LOCATION:Online
URL:https://old.cusy.io/en/our-training-courses/data-analysis-in-python-fr
 om-20-21-oct-2021
END:VEVENT
BEGIN:VTIMEZONE
TZID:Europe/Berlin
X-LIC-LOCATION:Europe/Berlin
BEGIN:DAYLIGHT
DTSTART;VALUE=DATE-TIME:20210328T030000
TZNAME:CEST
TZOFFSETFROM:+0100
TZOFFSETTO:+0200
END:DAYLIGHT
END:VTIMEZONE
END:VCALENDAR
