BEGIN:VCALENDAR
VERSION:2.0
PRODID:-//Plone.org//NONSGML plone.app.event//EN
X-WR-TIMEZONE:Europe/Berlin
BEGIN:VEVENT
SUMMARY:Create and publish Python research software from 8–12 Mar 2021
DTSTART;TZID=Europe/Berlin;VALUE=DATE-TIME:20210308T090000
DTEND;TZID=Europe/Berlin;VALUE=DATE-TIME:20210312T170000
DTSTAMP;VALUE=DATE-TIME:20260422T132908Z
UID:8acc507c1bda4b73829e15c79a51ec81@old.cusy.io
ATTENDEE;CN="min. 1, max. 8 people; the third employee participates free o
 f charge.";ROLE=REQ-PARTICIPANT:min. 1, max. 8 people; the third employee 
 participates free of charge.
CATEGORIES:Training
CONTACT:Veit Schiele\, +49 30 22430082\, trainings@cusy.io
CREATED;VALUE=DATE-TIME:20210610T100307Z
LAST-MODIFIED;VALUE=DATE-TIME:20200908T175853Z
LOCATION:Online
URL:https://old.cusy.io/en/our-training-courses/create-and-publish-python-
 research-software-from-8201312-mar-2021
END:VEVENT
BEGIN:VTIMEZONE
TZID:Europe/Berlin
X-LIC-LOCATION:Europe/Berlin
BEGIN:STANDARD
DTSTART;VALUE=DATE-TIME:20201025T020000
TZNAME:CET
TZOFFSETFROM:+0200
TZOFFSETTO:+0100
END:STANDARD
END:VTIMEZONE
END:VCALENDAR
