BEGIN:VCALENDAR
VERSION:2.0
PRODID:-//Plone.org//NONSGML plone.app.event//EN
X-WR-TIMEZONE:Europe/Berlin
BEGIN:VEVENT
SUMMARY:Create and publish Python research software from 13–17 Sep 2021
DTSTART;TZID=Europe/Berlin;VALUE=DATE-TIME:20210913T090000
DTEND;TZID=Europe/Berlin;VALUE=DATE-TIME:20210917T170000
DTSTAMP;VALUE=DATE-TIME:20260422T133035Z
UID:caac78c2611d4717bcc346c69e4d75c6@old.cusy.io
ATTENDEE;CN="min. 1, max. 8 people; the third employee participates free o
 f charge.";ROLE=REQ-PARTICIPANT:min. 1, max. 8 people; the third employee 
 participates free of charge.
CATEGORIES:Training
CONTACT:Veit Schiele\, +49 30 22430082\, trainings@cusy.io
CREATED;VALUE=DATE-TIME:20210610T100307Z
LAST-MODIFIED;VALUE=DATE-TIME:20200910T111704Z
LOCATION:Online
URL:https://old.cusy.io/en/our-training-courses/create-and-publish-python-
 research-software-from-13-17-sep-2021
END:VEVENT
BEGIN:VTIMEZONE
TZID:Europe/Berlin
X-LIC-LOCATION:Europe/Berlin
BEGIN:DAYLIGHT
DTSTART;VALUE=DATE-TIME:20210328T030000
TZNAME:CEST
TZOFFSETFROM:+0100
TZOFFSETTO:+0200
END:DAYLIGHT
END:VTIMEZONE
END:VCALENDAR
