BEGIN:VCALENDAR
VERSION:2.0
PRODID:-//Plone.org//NONSGML plone.app.event//EN
X-WR-TIMEZONE:Europe/Berlin
BEGIN:VEVENT
SUMMARY:Tübix 2024
DTSTART;VALUE=DATE:20240622
DTEND;VALUE=DATE:20240623
DTSTAMP;VALUE=DATE-TIME:20260422T133124Z
UID:042a3a0dba8d4ffb9fb15253ec984f18@old.cusy.io
ATTENDEE;CN="Veit Schiele";ROLE=REQ-PARTICIPANT:Veit Schiele
CATEGORIES:Featured
CONTACT:Veit Schiele\, +49 30 22430082\, info@cusy.io\, https://www.tuebix
 .org
CREATED;VALUE=DATE-TIME:20240529T104049Z
DESCRIPTION:We will be at Tübix on 22 June 2024 and look forward to excit
 ing discussions with you.
LAST-MODIFIED;VALUE=DATE-TIME:20240529T104521Z
LOCATION:Sand 14\, 72076 Tübingen
URL:https://old.cusy.io/en/about/events/tubix-2024
END:VEVENT
END:VCALENDAR
