BEGIN:VCALENDAR
VERSION:2.0
PRODID:-//Plone.org//NONSGML plone.app.event//EN
X-WR-TIMEZONE:Europe/Berlin
BEGIN:VEVENT
SUMMARY:Tübix 2023
DTSTART;VALUE=DATE:20230701
DTEND;VALUE=DATE:20230702
DTSTAMP;VALUE=DATE-TIME:20260422T133124Z
UID:230454e7f6ac417896040dfdfdf8bf87@old.cusy.io
ATTENDEE;CN="Frank Hofmann";ROLE=REQ-PARTICIPANT:Frank Hofmann
ATTENDEE;CN="Veit Schiele";ROLE=REQ-PARTICIPANT:Veit Schiele
CATEGORIES:Featured
CONTACT:Veit Schiele\, +49 30 22430082\, info@cusy.io\, https://www.tuebix
 .org
CREATED;VALUE=DATE-TIME:20230531T181249Z
DESCRIPTION:We will be at Tübix on 1 July 2023 and look forward to exciti
 ng discussions with you.
LAST-MODIFIED;VALUE=DATE-TIME:20230615T192928Z
LOCATION:Sand 14\, 72076 Tübingen
URL:https://old.cusy.io/en/about/events/tubix-2023
END:VEVENT
END:VCALENDAR
