BEGIN:VCALENDAR
VERSION:2.0
PRODID:-//Plone.org//NONSGML plone.app.event//EN
X-WR-TIMEZONE:Europe/Berlin
BEGIN:VEVENT
SUMMARY:Semicolon: „How Data Science is driving digital transformation
 “
DTSTART;TZID=Europe/Berlin;VALUE=DATE-TIME:20220531T180000
DTEND;TZID=Europe/Berlin;VALUE=DATE-TIME:20220531T190000
DTSTAMP;VALUE=DATE-TIME:20260422T133537Z
UID:b511a0016fcd4fb69066017c79b5b65a@old.cusy.io
ATTENDEE;CN="Veit Schiele";ROLE=REQ-PARTICIPANT:Veit Schiele
CATEGORIES:Featured,Data analysis
CONTACT:Veit Schiele\, +49 30 22430082\, info@cusy.io\, https://gfu.net/se
 minare-schulungen-kurse/semicolon_sk73/wie_data_science_die_digitale_trans
 formation_voran_s2557.html
CREATED;VALUE=DATE-TIME:20220504T084605Z
DESCRIPTION:On 31 May\, Veit Schiele will give a talk on „How Data Scien
 ce Drives Digital Transformation“ in the Semicolon series at GFU.
LAST-MODIFIED;VALUE=DATE-TIME:20241123T090401Z
LOCATION:Remote
URL:https://old.cusy.io/en/about/events/semicolon-201ehow-data-science-is-
 driving-digital-transformation201c
END:VEVENT
BEGIN:VTIMEZONE
TZID:Europe/Berlin
X-LIC-LOCATION:Europe/Berlin
BEGIN:DAYLIGHT
DTSTART;VALUE=DATE-TIME:20220327T030000
TZNAME:CEST
TZOFFSETFROM:+0100
TZOFFSETTO:+0200
END:DAYLIGHT
END:VTIMEZONE
END:VCALENDAR
