BEGIN:VCALENDAR
VERSION:2.0
PRODID:-//Plone.org//NONSGML plone.app.event//EN
X-WR-TIMEZONE:Europe/Berlin
BEGIN:VEVENT
SUMMARY:Python in Berlin BBQ @ c-base
DTSTART;TZID=Europe/Berlin;VALUE=DATE-TIME:20230810T190000
DTSTAMP;VALUE=DATE-TIME:20260422T132818Z
UID:757d5c8b121b412cbd113a95856c3c84@old.cusy.io
CATEGORIES:Python,Featured
CONTACT:Veit Schiele\, +49 30 22430082\, info@cusy.io\, https://www.meetup
 .com/python-users-berlin-pub/events/294751956/
CREATED;VALUE=DATE-TIME:20230730T123417Z
LAST-MODIFIED;VALUE=DATE-TIME:20230730T135933Z
LOCATION:c-base\, Rungestraße 20\, 10179 Berlin
URL:https://old.cusy.io/en/about/events/python-in-berlin-bbq-c-base
END:VEVENT
BEGIN:VTIMEZONE
TZID:Europe/Berlin
X-LIC-LOCATION:Europe/Berlin
BEGIN:DAYLIGHT
DTSTART;VALUE=DATE-TIME:20230326T030000
TZNAME:CEST
TZOFFSETFROM:+0100
TZOFFSETTO:+0200
END:DAYLIGHT
END:VTIMEZONE
END:VCALENDAR
