BEGIN:VCALENDAR
VERSION:2.0
PRODID:-//Plone.org//NONSGML plone.app.event//EN
X-WR-TIMEZONE:Europe/Berlin
BEGIN:VEVENT
SUMMARY:PyData Berlin 2025
DTSTART;VALUE=DATE:20250902
DTEND;VALUE=DATE:20250903
DTSTAMP;VALUE=DATE-TIME:20260422T165539Z
UID:53fb626ca82c43c68fd3b84031bca0fe@old.cusy.io
ATTENDEE;CN="Veit Schiele";ROLE=REQ-PARTICIPANT:Veit Schiele
CATEGORIES:Featured,Data Science,Open Source
CONTACT:Veit Schiele\, +49 30 22430082\, info@cusy.io\, https://pydata.org
 /berlin2025
CREATED;VALUE=DATE-TIME:20250623T135151Z
DESCRIPTION:We will be at PyData in Berlin from 1 to 3 September 2025 and 
 look forward to exciting discussions with you.
LAST-MODIFIED;VALUE=DATE-TIME:20250623T135405Z
LOCATION:bcc Berlin Congress Center\, Alexanderstr. 11\, 10178 Berlin
URL:https://old.cusy.io/en/about/events/pydata-berlin-2025/2025-09-02
END:VEVENT
END:VCALENDAR
