BEGIN:VCALENDAR
VERSION:2.0
PRODID:-//Plone.org//NONSGML plone.app.event//EN
X-WR-TIMEZONE:Europe/Berlin
BEGIN:VEVENT
SUMMARY:PyCon DE & PyData 2025
DTSTART;VALUE=DATE:20250423
DTEND;VALUE=DATE:20250426
DTSTAMP;VALUE=DATE-TIME:20260422T133124Z
UID:f0cd39a462e24e1793d502fe7f5b9914@old.cusy.io
ATTENDEE;CN="Veit Schiele";ROLE=REQ-PARTICIPANT:Veit Schiele
ATTENDEE;CN="Kristian Rother";ROLE=REQ-PARTICIPANT:Kristian Rother
ATTENDEE;CN="Andreas Jung";ROLE=REQ-PARTICIPANT:Andreas Jung
CATEGORIES:Featured,Python
CONTACT:Veit Schiele\, +49 30 22430082\, info@cusy.io\, https://2025.pycon
 .de
CREATED;VALUE=DATE-TIME:20250421T094656Z
DESCRIPTION:PyCon DE & PyData 2025 is the leading Python and PyData event 
 in Europe and brings together Python developers and data scientists. It wi
 ll take place from 23-25 May 2025 in Darmstadt.
LAST-MODIFIED;VALUE=DATE-TIME:20250421T095053Z
LOCATION:Darmstadtium\, Schlossgraben 1\, 64283 Darmstadt\, Germany
URL:https://old.cusy.io/en/about/events/pycon-de-pydata-2025
END:VEVENT
END:VCALENDAR
