BEGIN:VCALENDAR
VERSION:2.0
PRODID:-//Plone.org//NONSGML plone.app.event//EN
X-WR-TIMEZONE:Europe/Berlin
BEGIN:VEVENT
SUMMARY:PUB 04/2023: 🎙 Pyodide – A Python distribution for the browse
 r
DTSTART;TZID=Europe/Berlin;VALUE=DATE-TIME:20230413T190000
DTSTAMP;VALUE=DATE-TIME:20260422T132950Z
UID:98c97357b9a942638c23f58099fd37bd@old.cusy.io
ATTENDEE;CN=veit;ROLE=REQ-PARTICIPANT:veit
CATEGORIES:Python
CONTACT:Veit Schiele\, info@cusy.io\, https://www.meetup.com/python-users-
 berlin-pub/events/291107839/
CREATED;VALUE=DATE-TIME:20230408T121617Z
DESCRIPTION:We are very pleased to present a talk by Roman Yurchak\, one o
 f the main developers of Pyodide\, at Python Users Berlin (PUB). In his ta
 lk\, he will talk about the possibilities of running Python applications i
 n the browser and\, besides simple examples\, also show how Python package
 s have to be built in order to be able to use them for this purpose.
LAST-MODIFIED;VALUE=DATE-TIME:20230409T154555Z
LOCATION:Remote
URL:https://old.cusy.io/en/about/events/pub-04-2023_pyodide-a-python-distr
 ibution-for-the-browser
END:VEVENT
BEGIN:VTIMEZONE
TZID:Europe/Berlin
X-LIC-LOCATION:Europe/Berlin
BEGIN:DAYLIGHT
DTSTART;VALUE=DATE-TIME:20230326T030000
TZNAME:CEST
TZOFFSETFROM:+0100
TZOFFSETTO:+0200
END:DAYLIGHT
END:VTIMEZONE
END:VCALENDAR
