BEGIN:VCALENDAR
VERSION:2.0
PRODID:-//Plone.org//NONSGML plone.app.event//EN
X-WR-TIMEZONE:Europe/Berlin
BEGIN:VEVENT
SUMMARY:Jupyter Dashboard Sprint
DTSTART;VALUE=DATE:20240923
DTEND;VALUE=DATE:20240926
DTSTAMP;VALUE=DATE-TIME:20260422T133103Z
UID:7bf1c60317ed4867920806232ca6f98b@old.cusy.io
ATTENDEE;CN="Tim Weber";ROLE=REQ-PARTICIPANT:Tim Weber
ATTENDEE;CN="Michael Hierweck";ROLE=REQ-PARTICIPANT:Michael Hierweck
ATTENDEE;CN="Frank Hofmann";ROLE=REQ-PARTICIPANT:Frank Hofmann
ATTENDEE;CN="Veit Schiele ";ROLE=REQ-PARTICIPANT:Veit Schiele 
CATEGORIES:Featured
CONTACT:Veit Schiele\, +49 30 22430082\, info@cusy.io
CREATED;VALUE=DATE-TIME:20240529T094701Z
DESCRIPTION:From 23–25 September 2024 we are planning a sprint on Jupyte
 r Dashboards in our Freiburg office.
LAST-MODIFIED;VALUE=DATE-TIME:20240529T103516Z
LOCATION:Freiburg
URL:https://old.cusy.io/en/about/events/jupyter-dashboard-sprint
END:VEVENT
END:VCALENDAR
