BEGIN:VCALENDAR
VERSION:2.0
PRODID:-//Plone.org//NONSGML plone.app.event//EN
X-WR-TIMEZONE:Europe/Berlin
BEGIN:VEVENT
SUMMARY:GPN23
DTSTART;VALUE=DATE:20250619
DTEND;VALUE=DATE:20250623
DTSTAMP;VALUE=DATE-TIME:20260422T132857Z
UID:238bbcbab29c4906a3054c5bba27fbe0@old.cusy.io
ATTENDEE;CN="Tim Weber";ROLE=REQ-PARTICIPANT:Tim Weber
ATTENDEE;CN="Andreas Jung";ROLE=REQ-PARTICIPANT:Andreas Jung
ATTENDEE;CN="Veit Schiele";ROLE=REQ-PARTICIPANT:Veit Schiele
CATEGORIES:Featured,Open Source
CONTACT:Veit Schiele\, +49 30 22430082\, info@cusy.io\, https://entropia.d
 e/GPN23
CREATED;VALUE=DATE-TIME:20250421T102033Z
DESCRIPTION:From 19 to 22 June 2025 we will be at the 23rd Goulash Program
 ming Night in Karlsruhe. We look forward to many exciting conversations wi
 th you.
LAST-MODIFIED;VALUE=DATE-TIME:20250429T200148Z
LOCATION:Karlsruhe University of Arts and Design (HfG)\, Lorenzstraße 15\
 , 76135 Karlsruhe
URL:https://old.cusy.io/en/about/events/gpn23
END:VEVENT
END:VCALENDAR
