BEGIN:VCALENDAR
VERSION:2.0
PRODID:-//Plone.org//NONSGML plone.app.event//EN
X-WR-TIMEZONE:Europe/Berlin
BEGIN:VEVENT
SUMMARY:GPN22
DTSTART;VALUE=DATE:20240530
DTEND;VALUE=DATE:20240603
DTSTAMP;VALUE=DATE-TIME:20260422T132856Z
UID:6bfbc37c3f604877816a41eb79993812@old.cusy.io
ATTENDEE;CN=" Tim Weber";ROLE=REQ-PARTICIPANT: Tim Weber
ATTENDEE;CN="Andreas Jung";ROLE=REQ-PARTICIPANT:Andreas Jung
ATTENDEE;CN="Veit Schiele ";ROLE=REQ-PARTICIPANT:Veit Schiele 
CATEGORIES:Featured
CONTACT:Veit Schiele\, +49 30 22430082\, info@cusy.io\, https://entropia.d
 e/GPN22
CREATED;VALUE=DATE-TIME:20240513T090602Z
DESCRIPTION:From 30 May to 2 June 2024 we will be at the 22nd Goulash Prog
 ramming Night in Karlsruhe. We look forward to many exciting conversations
  with you.
LAST-MODIFIED;VALUE=DATE-TIME:20240513T090647Z
LOCATION:Karlsruhe University of Arts and Design (HfG)\, Lorenzstraße 15\
 , 76135 Karlsruhe
URL:https://old.cusy.io/en/about/events/gpn22
END:VEVENT
END:VCALENDAR
