BEGIN:VCALENDAR
VERSION:2.0
PRODID:-//Plone.org//NONSGML plone.app.event//EN
X-WR-TIMEZONE:Europe/Berlin
BEGIN:VEVENT
SUMMARY:FrOSCon 2023
DTSTART;VALUE=DATE:20230805
DTEND;VALUE=DATE:20230807
DTSTAMP;VALUE=DATE-TIME:20260422T132948Z
UID:ff6d7dcd4cba4b3f949e7d675ce36b9a@old.cusy.io
ATTENDEE;CN="Frank Hofmann";ROLE=REQ-PARTICIPANT:Frank Hofmann
CATEGORIES:Featured,Training
CONTACT:Veit Schiele\, +49 30 22430082\, info@cusy.io\, https://froscon.or
 g
CREATED;VALUE=DATE-TIME:20230731T083913Z
DESCRIPTION:We will be at the 18th Free and Open Source Software Conferenc
 e (FrOSCon) in St. Augustin on 5 and 6 August 2023 and look forward to exc
 iting discussions with you.
LAST-MODIFIED;VALUE=DATE-TIME:20230731T202458Z
LOCATION:Hochschule Bonn-Rhein-Sieg\, Grantham-Allee 20\, 53757 Sankt Augu
 stin
URL:https://old.cusy.io/en/about/events/froscon-2023
END:VEVENT
END:VCALENDAR
