BEGIN:VCALENDAR
VERSION:2.0
PRODID:-//Plone.org//NONSGML plone.app.event//EN
X-WR-TIMEZONE:Europe/Berlin
BEGIN:VEVENT
SUMMARY:enterPy on 6 May 2021
DTSTART;TZID=Europe/Berlin;VALUE=DATE-TIME:20210506T090000
DTEND;TZID=Europe/Berlin;VALUE=DATE-TIME:20210506T164500
DTSTAMP;VALUE=DATE-TIME:20260422T133021Z
UID:556a0335d9f54705bf5f65a19f90eaad@old.cusy.io
ATTENDEE;CN="Frank Hofmann";ROLE=REQ-PARTICIPANT:Frank Hofmann
CATEGORIES:Featured
CONTACT:Veit Schiele\, +49 30 22430082\, info@cusy.io
CREATED;VALUE=DATE-TIME:20210610T100304Z
DESCRIPTION: The enterPy is a conference for Python in Business\, Web and 
 DevOps. It is aimed at professionals who use Python productively in the co
 mpany or intend to do so because they want to exploit the potential of the
  programming language in data analysis\, machine learning\, web programmin
 g or even in the DevOps environment. 
LAST-MODIFIED;VALUE=DATE-TIME:20210510T080310Z
LOCATION:Online
URL:https://old.cusy.io/en/about/events/enterpy-on-6-may-2021
END:VEVENT
BEGIN:VTIMEZONE
TZID:Europe/Berlin
X-LIC-LOCATION:Europe/Berlin
BEGIN:DAYLIGHT
DTSTART;VALUE=DATE-TIME:20210328T030000
TZNAME:CEST
TZOFFSETFROM:+0100
TZOFFSETTO:+0200
END:DAYLIGHT
END:VTIMEZONE
END:VCALENDAR
