BEGIN:VCALENDAR
VERSION:2.0
PRODID:-//Plone.org//NONSGML plone.app.event//EN
X-WR-TIMEZONE:Europe/Berlin
BEGIN:VEVENT
SUMMARY:enterPy on 15 April 2021
DTSTART;TZID=Europe/Berlin;VALUE=DATE-TIME:20210415T090000
DTEND;TZID=Europe/Berlin;VALUE=DATE-TIME:20210415T154500
DTSTAMP;VALUE=DATE-TIME:20260422T133119Z
UID:7fed1047aa04423480753159f761b233@old.cusy.io
CATEGORIES:Featured
CONTACT:Veit Schiele\, +49 30 22430082\, info@cusy.io
CREATED;VALUE=DATE-TIME:20210610T100304Z
DESCRIPTION:The enterPy is a conference for Python in Business\, Web and D
 evOps. It is aimed at professionals who use Python productively in the com
 pany or intend to do so because they want to exploit the potential of the 
 programming language in data analysis\, machine learning\, web programming
  or even in the DevOps environment.
LAST-MODIFIED;VALUE=DATE-TIME:20210915T133730Z
LOCATION:Online
URL:https://old.cusy.io/en/about/events/enterpy-on-15-april-2021
END:VEVENT
BEGIN:VTIMEZONE
TZID:Europe/Berlin
X-LIC-LOCATION:Europe/Berlin
BEGIN:DAYLIGHT
DTSTART;VALUE=DATE-TIME:20210328T030000
TZNAME:CEST
TZOFFSETFROM:+0100
TZOFFSETTO:+0200
END:DAYLIGHT
END:VTIMEZONE
END:VCALENDAR
