BEGIN:VCALENDAR
VERSION:2.0
PRODID:-//Plone.org//NONSGML plone.app.event//EN
X-WR-TIMEZONE:Europe/Berlin
BEGIN:VEVENT
SUMMARY:DevOpsDays Berlin
DTSTART;TZID=Europe/Berlin;VALUE=DATE-TIME:20151026T094500
DTEND;TZID=Europe/Berlin;VALUE=DATE-TIME:20151027T181500
DTSTAMP;VALUE=DATE-TIME:20260422T132811Z
UID:d47bc391a59a4727a79209378d091ae8@old.cusy.io
ATTENDEE;CN="Veit Schiele";ROLE=REQ-PARTICIPANT:Veit Schiele
ATTENDEE;CN="Michael Hierweck";ROLE=REQ-PARTICIPANT:Michael Hierweck
CONTACT:Veit Schiele\, +49 30 22430082\, info@cusy.io
CREATED;VALUE=DATE-TIME:20210610T100304Z
DESCRIPTION:The conference that brings development and operations together
LAST-MODIFIED;VALUE=DATE-TIME:20210816T082551Z
LOCATION:Kalkscheune\, Johannisstr. 2\, 10117 Berlin
URL:https://old.cusy.io/en/about/events/devopsdays-berlin
END:VEVENT
BEGIN:VTIMEZONE
TZID:Europe/Berlin
X-LIC-LOCATION:Europe/Berlin
BEGIN:STANDARD
DTSTART;VALUE=DATE-TIME:20151025T020000
TZNAME:CET
TZOFFSETFROM:+0200
TZOFFSETTO:+0100
END:STANDARD
END:VTIMEZONE
END:VCALENDAR
