BEGIN:VCALENDAR
VERSION:2.0
PRODID:-//Plone.org//NONSGML plone.app.event//EN
X-WR-TIMEZONE:Europe/Berlin
BEGIN:VEVENT
SUMMARY:CLT2022 · Chemnitz Linux Days 2022
DTSTART;VALUE=DATE:20220312
DTEND;VALUE=DATE:20220314
DTSTAMP;VALUE=DATE-TIME:20260422T133119Z
UID:d4c36114a5eb484d8e14d1e9b026ae33@old.cusy.io
ATTENDEE;CN="Thomas Massmann";ROLE=REQ-PARTICIPANT:Thomas Massmann
ATTENDEE;CN="Veit Schiele";ROLE=REQ-PARTICIPANT:Veit Schiele
CONTACT:Veit Schiele\, +49 30 22430082\, info@cusy.io
CREATED;VALUE=DATE-TIME:20220218T100329Z
DESCRIPTION:We will be at the Chemnitzer Linuxtage on 12 and 13 March 2022
  and look forward to exciting discussions with you.
LAST-MODIFIED;VALUE=DATE-TIME:20220311T111222Z
LOCATION:Online
URL:https://old.cusy.io/en/about/events/clt2022-chemnitz-linux-days-2022
END:VEVENT
END:VCALENDAR
