BEGIN:VCALENDAR
VERSION:2.0
PRODID:-//Plone.org//NONSGML plone.app.event//EN
X-WR-TIMEZONE:Europe/Berlin
BEGIN:VEVENT
SUMMARY:20th FrOSCon
DTSTART;VALUE=DATE:20250816
DTEND;VALUE=DATE:20250817
DTSTAMP;VALUE=DATE-TIME:20260422T133035Z
UID:b24e855fc61a44bcbcdf7dd495c1b98e@old.cusy.io
RRULE:FREQ=DAILY;COUNT=2
ATTENDEE;CN="Veit Schiele";ROLE=REQ-PARTICIPANT:Veit Schiele
CATEGORIES:Featured
CONTACT:Veit Schiele\, +49 30 22430082\, info@cusy.io\, https://froscon.or
 g/
CREATED;VALUE=DATE-TIME:20250606T142143Z
DESCRIPTION:We will be at FrOSCon in St. Augustin on 16 and 17 August 2025
  and look forward to exciting discussions with you.
LAST-MODIFIED;VALUE=DATE-TIME:20250606T142211Z
LOCATION:Bonn-Rhein-Sieg University of Applied Sciences – Sankt Augustin
  Campus\, Grantham-Allee 20\, 53757 Sankt Augustin\, Germany
URL:https://old.cusy.io/en/about/events/20th-froscon
END:VEVENT
END:VCALENDAR
