BEGIN:VCALENDAR
VERSION:2.0
PRODID:-//Plone.org//NONSGML plone.app.event//EN
X-WR-TIMEZONE:Europe/Berlin
BEGIN:VEVENT
SUMMARY:Python-Forschungssoftware erstellen und publizieren vom 6.–10. S
 eptember 2021
DTSTART;TZID=Europe/Berlin;VALUE=DATE-TIME:20210906T090000
DTEND;TZID=Europe/Berlin;VALUE=DATE-TIME:20210910T170000
DTSTAMP;VALUE=DATE-TIME:20260422T133830Z
UID:04fe54c32ba046e7b5741924a534ec1a@old.cusy.io
ATTENDEE;CN="min. 1, max. 8 Personen; der dritte Mitarbeiter nimmt kostenf
 rei teil.";ROLE=REQ-PARTICIPANT:min. 1, max. 8 Personen; der dritte Mitarb
 eiter nimmt kostenfrei teil.
CATEGORIES:Training
CONTACT:Veit Schiele\, +49 30 22430082\, trainings@cusy.io
CREATED;VALUE=DATE-TIME:20210610T100303Z
LAST-MODIFIED;VALUE=DATE-TIME:20210816T075858Z
LOCATION:Online
URL:https://old.cusy.io/de/unsere-schulungsangebote/python-forschungssoftw
 are-erstellen-und-publizieren-vom-6-10-september-2021
END:VEVENT
BEGIN:VTIMEZONE
TZID:Europe/Berlin
X-LIC-LOCATION:Europe/Berlin
BEGIN:DAYLIGHT
DTSTART;VALUE=DATE-TIME:20210328T030000
TZNAME:CEST
TZOFFSETFROM:+0100
TZOFFSETTO:+0200
END:DAYLIGHT
END:VTIMEZONE
END:VCALENDAR
