BEGIN:VCALENDAR
VERSION:2.0
PRODID:-//Plone.org//NONSGML plone.app.event//EN
X-WR-TIMEZONE:Europe/Berlin
BEGIN:VEVENT
SUMMARY:Python-Forschungssoftware erstellen und publizieren vom 29. Novemb
 er – 3. Dezember 2021
DTSTART;TZID=Europe/Berlin;VALUE=DATE-TIME:20211129T090000
DTEND;TZID=Europe/Berlin;VALUE=DATE-TIME:20211203T170000
DTSTAMP;VALUE=DATE-TIME:20260422T133828Z
UID:f37da08676854b5eac3ac3d533c45843@old.cusy.io
ATTENDEE;CN="min. 1, max. 8 Personen; der dritte Mitarbeiter nimmt kostenf
 rei teil.";ROLE=REQ-PARTICIPANT:min. 1, max. 8 Personen; der dritte Mitarb
 eiter nimmt kostenfrei teil.
CATEGORIES:Training
CONTACT:Veit Schiele\, +49 30 22430082\, trainings@cusy.io
CREATED;VALUE=DATE-TIME:20210610T100302Z
LAST-MODIFIED;VALUE=DATE-TIME:20210816T082035Z
LOCATION:Online
URL:https://old.cusy.io/de/unsere-schulungsangebote/python-forschungssoftw
 are-erstellen-und-publizieren-vom-29-november-03-dezember-2021
END:VEVENT
BEGIN:VTIMEZONE
TZID:Europe/Berlin
X-LIC-LOCATION:Europe/Berlin
BEGIN:STANDARD
DTSTART;VALUE=DATE-TIME:20211031T020000
TZNAME:CET
TZOFFSETFROM:+0200
TZOFFSETTO:+0100
END:STANDARD
END:VTIMEZONE
END:VCALENDAR
