BEGIN:VCALENDAR
VERSION:2.0
PRODID:-//Plone.org//NONSGML plone.app.event//EN
X-WR-TIMEZONE:Europe/Berlin
BEGIN:VEVENT
SUMMARY:Jupyter Notebook Infrastruktur für effiziente Data Science Workfl
 ows vom 6.–8. Mai 2020
DTSTART;TZID=Europe/Berlin;VALUE=DATE-TIME:20200506T000000
DTEND;TZID=Europe/Berlin;VALUE=DATE-TIME:20200508T000000
DTSTAMP;VALUE=DATE-TIME:20260422T133827Z
UID:21bb7db518e04de691eb75a8b9cffe58@old.cusy.io
ATTENDEE;CN="min. 1, max. 8 Personen; der dritte Mitarbeiter nimmt kostenf
 rei teil.";ROLE=REQ-PARTICIPANT:min. 1, max. 8 Personen; der dritte Mitarb
 eiter nimmt kostenfrei teil.
CATEGORIES:Training
CREATED;VALUE=DATE-TIME:20210610T100302Z
DESCRIPTION:Jupyter Notebooks bieten effiziente Möglichkeiten für Data-S
 cience-Workflows.
LAST-MODIFIED;VALUE=DATE-TIME:20200131T154512Z
LOCATION:GFU Cyrus AG\, Am Grauen Stein 27\, 51105 Köln-Deutz
URL:https://old.cusy.io/de/unsere-schulungsangebote/jupyter-notebook-infra
 struktur-fuer-effiziente-data-science-workflows-vom-6-8-mai-2020
END:VEVENT
BEGIN:VTIMEZONE
TZID:Europe/Berlin
X-LIC-LOCATION:Europe/Berlin
BEGIN:DAYLIGHT
DTSTART;VALUE=DATE-TIME:20200329T030000
TZNAME:CEST
TZOFFSETFROM:+0100
TZOFFSETTO:+0200
END:DAYLIGHT
END:VTIMEZONE
END:VCALENDAR
