BEGIN:VCALENDAR
VERSION:2.0
PRODID:-//Plone.org//NONSGML plone.app.event//EN
X-WR-TIMEZONE:Europe/Berlin
BEGIN:VEVENT
SUMMARY:Jupyter Notebook Infrastruktur für effiziente Data Science Workfl
 ows vom 16.–18. Dezember 2020
DTSTART;TZID=Europe/Berlin;VALUE=DATE-TIME:20201216T000000
DTEND;TZID=Europe/Berlin;VALUE=DATE-TIME:20201218T000000
DTSTAMP;VALUE=DATE-TIME:20260422T133827Z
UID:63fe66077eff472ba2770cc7e6c541d8@old.cusy.io
ATTENDEE;CN="min. 1, max. 8 Personen; der dritte Mitarbeiter nimmt kostenf
 rei teil.";ROLE=REQ-PARTICIPANT:min. 1, max. 8 Personen; der dritte Mitarb
 eiter nimmt kostenfrei teil.
CATEGORIES:Training
CREATED;VALUE=DATE-TIME:20210610T100301Z
DESCRIPTION:Jupyter Notebooks bieten effiziente Möglichkeiten für Data-S
 cience-Workflows.
LAST-MODIFIED;VALUE=DATE-TIME:20200907T055659Z
LOCATION:GFU Cyrus AG\, Am Grauen Stein 27\, 51105 Köln-Deutz
URL:https://old.cusy.io/de/unsere-schulungsangebote/jupyter-notebook-infra
 struktur-fuer-effiziente-data-science-workflows-vom-16-18-dezember-2020
END:VEVENT
BEGIN:VTIMEZONE
TZID:Europe/Berlin
X-LIC-LOCATION:Europe/Berlin
BEGIN:STANDARD
DTSTART;VALUE=DATE-TIME:20201025T020000
TZNAME:CET
TZOFFSETFROM:+0200
TZOFFSETTO:+0100
END:STANDARD
END:VTIMEZONE
END:VCALENDAR
