BEGIN:VCALENDAR
VERSION:2.0
PRODID:-//Plone.org//NONSGML plone.app.event//EN
X-WR-TIMEZONE:Europe/Berlin
BEGIN:VEVENT
SUMMARY:Forschungssoftware und -daten veröffentlichen vom 11.–14. Mai 2
 020
DTSTART;TZID=Europe/Berlin;VALUE=DATE-TIME:20200511T090000
DTEND;TZID=Europe/Berlin;VALUE=DATE-TIME:20200514T170000
DTSTAMP;VALUE=DATE-TIME:20260422T133827Z
UID:5e93ac5b58c5448391d72bc2b6e7ce1e@old.cusy.io
ATTENDEE;CN="min. 1, max. 8 Personen; der dritte Mitarbeiter nimmt kostenf
 rei teil.";ROLE=REQ-PARTICIPANT:min. 1, max. 8 Personen; der dritte Mitarb
 eiter nimmt kostenfrei teil.
CONTACT:Veit Schiele\, +49 30 22430082\, trainings@cusy.io
CREATED;VALUE=DATE-TIME:20210610T100301Z
DESCRIPTION:Heute ist Software ein integraler Bestandteil wissenschaftlich
 er Forschung. Mit ihr werden Forschungsdaten erstellt\, verarbeitet und an
 alysiert sowie komplexe Prozesse modelliert und simuliert. Trotz ihrer zun
 ehmenden Bedeutung in der Forschung ist kaum bekannt\, wie sie in die wiss
 enschaftlichen Anerkennungs- und Reputationssysteme eingebettet werden kö
 nnen.
LAST-MODIFIED;VALUE=DATE-TIME:20210815T192852Z
LOCATION:Online
URL:https://old.cusy.io/de/unsere-schulungsangebote/forschungssoftware-und
 -daten-veroeffentlichen-vom-11-14-mai-2020
END:VEVENT
BEGIN:VTIMEZONE
TZID:Europe/Berlin
X-LIC-LOCATION:Europe/Berlin
BEGIN:DAYLIGHT
DTSTART;VALUE=DATE-TIME:20200329T030000
TZNAME:CEST
TZOFFSETFROM:+0100
TZOFFSETTO:+0200
END:DAYLIGHT
END:VTIMEZONE
END:VCALENDAR
