BEGIN:VCALENDAR
VERSION:2.0
PRODID:-//Plone.org//NONSGML plone.app.event//EN
X-WR-TIMEZONE:Europe/Berlin
BEGIN:VEVENT
SUMMARY:Forschungssoftware mit Python erstellen vom 9.–10. September 202
 1
DTSTART;TZID=Europe/Berlin;VALUE=DATE-TIME:20210909T090000
DTEND;TZID=Europe/Berlin;VALUE=DATE-TIME:20210910T170000
DTSTAMP;VALUE=DATE-TIME:20260422T133552Z
UID:89650589b8ba4878bd9f44fe24c4863e@old.cusy.io
ATTENDEE;CN="min. 1, max. 8 Personen; der dritte Mitarbeiter nimmt kostenf
 rei teil.";ROLE=REQ-PARTICIPANT:min. 1, max. 8 Personen; der dritte Mitarb
 eiter nimmt kostenfrei teil.
CATEGORIES:Training
CONTACT:Veit Schiele\, +49 30 22430082\, trainings@cusy.io
CREATED;VALUE=DATE-TIME:20210610T100300Z
LAST-MODIFIED;VALUE=DATE-TIME:20210816T082435Z
LOCATION:Online
URL:https://old.cusy.io/de/unsere-schulungsangebote/forschungssoftware-mit
 -python-erstellen-vom-9-10-september-2021
END:VEVENT
BEGIN:VTIMEZONE
TZID:Europe/Berlin
X-LIC-LOCATION:Europe/Berlin
BEGIN:DAYLIGHT
DTSTART;VALUE=DATE-TIME:20210328T030000
TZNAME:CEST
TZOFFSETFROM:+0100
TZOFFSETTO:+0200
END:DAYLIGHT
END:VTIMEZONE
END:VCALENDAR
