BEGIN:VCALENDAR
VERSION:2.0
PRODID:-//Plone.org//NONSGML plone.app.event//EN
X-WR-TIMEZONE:Europe/Berlin
BEGIN:VEVENT
SUMMARY:Forschungssoftware mit Python erstellen vom 4.–5. März 2021
DTSTART;TZID=Europe/Berlin;VALUE=DATE-TIME:20210304T090000
DTEND;TZID=Europe/Berlin;VALUE=DATE-TIME:20210305T170000
DTSTAMP;VALUE=DATE-TIME:20260422T133603Z
UID:42dce265bacf41f982880a07c5f0e634@old.cusy.io
ATTENDEE;CN="min. 1, max. 8 Personen; der dritte Mitarbeiter nimmt kostenf
 rei teil.";ROLE=REQ-PARTICIPANT:min. 1, max. 8 Personen; der dritte Mitarb
 eiter nimmt kostenfrei teil.
CATEGORIES:Training
CONTACT:Veit Schiele\, +49 30 22430082\, trainings@cusy.io
CREATED;VALUE=DATE-TIME:20210610T100300Z
LAST-MODIFIED;VALUE=DATE-TIME:20210816T082519Z
LOCATION:Online
URL:https://old.cusy.io/de/unsere-schulungsangebote/forschungssoftware-mit
 -python-erstellen-vom-4-20135-marz-2021
END:VEVENT
BEGIN:VTIMEZONE
TZID:Europe/Berlin
X-LIC-LOCATION:Europe/Berlin
BEGIN:STANDARD
DTSTART;VALUE=DATE-TIME:20201025T020000
TZNAME:CET
TZOFFSETFROM:+0200
TZOFFSETTO:+0100
END:STANDARD
END:VTIMEZONE
END:VCALENDAR
