BEGIN:VCALENDAR
VERSION:2.0
PRODID:-//Plone.org//NONSGML plone.app.event//EN
X-WR-TIMEZONE:Europe/Berlin
BEGIN:VEVENT
SUMMARY:Einstieg in Data Science mit Pandas vom 17.–18. August 2020
DTSTART;TZID=Europe/Berlin;VALUE=DATE-TIME:20200817T000000
DTEND;TZID=Europe/Berlin;VALUE=DATE-TIME:20200818T000000
DTSTAMP;VALUE=DATE-TIME:20260422T133832Z
UID:c264ff82e42043b1847dba2de7933b43@old.cusy.io
ATTENDEE;CN="min. 1, max. 8 Personen; der dritte Mitarbeiter nimmt kostenf
 rei teil.";ROLE=REQ-PARTICIPANT:min. 1, max. 8 Personen; der dritte Mitarb
 eiter nimmt kostenfrei teil.
CATEGORIES:Training
CREATED;VALUE=DATE-TIME:20210610T100259Z
DESCRIPTION:Die Python-Bibliothek pandas bietet ein praktisches Alltagswer
 kzeug zur Analyse tabellarischer Daten.
LAST-MODIFIED;VALUE=DATE-TIME:20210816T083814Z
LOCATION:GFU Cyrus AG\, Am Grauen Stein 27\, 51105 Köln-Deutz
URL:https://old.cusy.io/de/unsere-schulungsangebote/einstieg-in-data-scien
 ce-mit-pandas-vom-17-18-august-2020
END:VEVENT
BEGIN:VTIMEZONE
TZID:Europe/Berlin
X-LIC-LOCATION:Europe/Berlin
BEGIN:DAYLIGHT
DTSTART;VALUE=DATE-TIME:20200329T030000
TZNAME:CEST
TZOFFSETFROM:+0100
TZOFFSETTO:+0200
END:DAYLIGHT
END:VTIMEZONE
END:VCALENDAR
