BEGIN:VCALENDAR
VERSION:2.0
PRODID:-//Plone.org//NONSGML plone.app.event//EN
X-WR-TIMEZONE:Europe/Berlin
BEGIN:VEVENT
SUMMARY:Einstieg in Data Science mit Pandas vom 14.–15. Dezember 2020
DTSTART;TZID=Europe/Berlin;VALUE=DATE-TIME:20201214T000000
DTEND;TZID=Europe/Berlin;VALUE=DATE-TIME:20201215T000000
DTSTAMP;VALUE=DATE-TIME:20260422T133831Z
UID:c43f478510384cda90005ed9dcd4148a@old.cusy.io
ATTENDEE;CN="min. 1, max. 8 Personen; der dritte Mitarbeiter nimmt kostenf
 rei teil.";ROLE=REQ-PARTICIPANT:min. 1, max. 8 Personen; der dritte Mitarb
 eiter nimmt kostenfrei teil.
CATEGORIES:Training
CREATED;VALUE=DATE-TIME:20210610T100259Z
DESCRIPTION:Die Python-Bibliothek pandas bietet ein praktisches Alltagswer
 kzeug zur Analyse tabellarischer Daten.
LAST-MODIFIED;VALUE=DATE-TIME:20210816T083721Z
LOCATION:GFU Cyrus AG\, Am Grauen Stein 27\, 51105 Köln-Deutz
URL:https://old.cusy.io/de/unsere-schulungsangebote/einstieg-in-data-scien
 ce-mit-pandas-vom-14-15-dezember-2020
END:VEVENT
BEGIN:VTIMEZONE
TZID:Europe/Berlin
X-LIC-LOCATION:Europe/Berlin
BEGIN:STANDARD
DTSTART;VALUE=DATE-TIME:20201025T020000
TZNAME:CET
TZOFFSETFROM:+0200
TZOFFSETTO:+0100
END:STANDARD
END:VTIMEZONE
END:VCALENDAR
