BEGIN:VCALENDAR
VERSION:2.0
PRODID:-//Plone.org//NONSGML plone.app.event//EN
X-WR-TIMEZONE:Europe/Berlin
BEGIN:VEVENT
SUMMARY:Einführung in PostGIS vom 8.–11. Juni 2020
DTSTART;TZID=Europe/Berlin;VALUE=DATE-TIME:20200608T090000
DTEND;TZID=Europe/Berlin;VALUE=DATE-TIME:20200611T170000
DTSTAMP;VALUE=DATE-TIME:20260422T153612Z
UID:9b9cec139e9341ada6710ac608a594d9@old.cusy.io
CONTACT:Veit Schiele\, +49 30 22430082\, trainings@cusy.io
CREATED;VALUE=DATE-TIME:20210610T100258Z
LAST-MODIFIED;VALUE=DATE-TIME:20210815T204805Z
LOCATION:Online
URL:https://old.cusy.io/de/unsere-schulungsangebote/einfuehrung-in-postgis
 -vom-8-11-juni-2020
END:VEVENT
BEGIN:VTIMEZONE
TZID:Europe/Berlin
X-LIC-LOCATION:Europe/Berlin
BEGIN:DAYLIGHT
DTSTART;VALUE=DATE-TIME:20200329T030000
TZNAME:CEST
TZOFFSETFROM:+0100
TZOFFSETTO:+0200
END:DAYLIGHT
END:VTIMEZONE
END:VCALENDAR
