BEGIN:VCALENDAR
VERSION:2.0
PRODID:-//Plone.org//NONSGML plone.app.event//EN
X-WR-TIMEZONE:Europe/Berlin
BEGIN:VEVENT
SUMMARY:Datenverarbeitung mit NumPy vom 11.–12. Oktober 2021
DTSTART;TZID=Europe/Berlin;VALUE=DATE-TIME:20211011T090000
DTEND;TZID=Europe/Berlin;VALUE=DATE-TIME:20211012T170000
DTSTAMP;VALUE=DATE-TIME:20260422T133831Z
UID:1da732c853874c3c9ddaafd57eb36a2e@old.cusy.io
ATTENDEE;CN="min. 1, max. 8 Personen; die dritte Mitarbeiter*in nimmt kost
 enfrei teil.";ROLE=REQ-PARTICIPANT:min. 1, max. 8 Personen; die dritte Mit
 arbeiter*in nimmt kostenfrei teil.
CATEGORIES:Training
CONTACT:Veit Schiele\, +49 30 22430082\, trainings@cusy.io
CREATED;VALUE=DATE-TIME:20210610T100257Z
LAST-MODIFIED;VALUE=DATE-TIME:20210816T090151Z
LOCATION:Online
URL:https://old.cusy.io/de/unsere-schulungsangebote/datenverarbeitung-mit-
 numpy-vom-11-12-oktober-2021
END:VEVENT
BEGIN:VTIMEZONE
TZID:Europe/Berlin
X-LIC-LOCATION:Europe/Berlin
BEGIN:DAYLIGHT
DTSTART;VALUE=DATE-TIME:20210328T030000
TZNAME:CEST
TZOFFSETFROM:+0100
TZOFFSETTO:+0200
END:DAYLIGHT
END:VTIMEZONE
END:VCALENDAR
