BEGIN:VCALENDAR
VERSION:2.0
PRODID:-//Plone.org//NONSGML plone.app.event//EN
X-WR-TIMEZONE:Europe/Berlin
BEGIN:VEVENT
SUMMARY:Datenverarbeitung mit NumPy vom 11.–12. Januar 2021
DTSTART;TZID=Europe/Berlin;VALUE=DATE-TIME:20210111T090000
DTEND;TZID=Europe/Berlin;VALUE=DATE-TIME:20210112T170000
DTSTAMP;VALUE=DATE-TIME:20260422T133738Z
UID:edd67bd2fdb44c9d8308d57898e3713e@old.cusy.io
ATTENDEE;CN="min. 1, max. 8 Personen; die dritte Mitarbeiter*in nimmt kost
 enfrei teil.";ROLE=REQ-PARTICIPANT:min. 1, max. 8 Personen; die dritte Mit
 arbeiter*in nimmt kostenfrei teil.
CATEGORIES:Training
CONTACT:Veit Schiele\, +49 30 22430082\, trainings@cusy.io
CREATED;VALUE=DATE-TIME:20210610T100257Z
LAST-MODIFIED;VALUE=DATE-TIME:20210816T091311Z
LOCATION:Online
URL:https://old.cusy.io/de/unsere-schulungsangebote/datenverarbeitung-mit-
 numpy-vom-11-12-januar-2021
END:VEVENT
BEGIN:VTIMEZONE
TZID:Europe/Berlin
X-LIC-LOCATION:Europe/Berlin
BEGIN:STANDARD
DTSTART;VALUE=DATE-TIME:20201025T020000
TZNAME:CET
TZOFFSETFROM:+0200
TZOFFSETTO:+0100
END:STANDARD
END:VTIMEZONE
END:VCALENDAR
