BEGIN:VCALENDAR
VERSION:2.0
PRODID:-//Plone.org//NONSGML plone.app.event//EN
X-WR-TIMEZONE:Europe/Berlin
BEGIN:VEVENT
SUMMARY:Datenanalyse in Python vom 13.–14. Oktober 2021
DTSTART;TZID=Europe/Berlin;VALUE=DATE-TIME:20211013T090000
DTEND;TZID=Europe/Berlin;VALUE=DATE-TIME:20211014T170000
DTSTAMP;VALUE=DATE-TIME:20260422T133242Z
UID:661026139cce490dbf72bcaf9dc3b16e@old.cusy.io
ATTENDEE;CN="min. 1, max. 8 Personen; der dritte Mitarbeiter nimmt kostenf
 rei teil.";ROLE=REQ-PARTICIPANT:min. 1, max. 8 Personen; der dritte Mitarb
 eiter nimmt kostenfrei teil.
CATEGORIES:Training
CONTACT:Veit Schiele\, +49 30 22430082\, trainings@cusy.io
CREATED;VALUE=DATE-TIME:20210610T100257Z
DESCRIPTION:Die Python-Bibliothek pandas bietet ein praktisches Alltagswer
 kzeug zur Analyse tabellarischer Daten.
LAST-MODIFIED;VALUE=DATE-TIME:20210816T084558Z
LOCATION:Online
URL:https://old.cusy.io/de/unsere-schulungsangebote/datenanalyse-in-python
 -13-14-oktober-2021
END:VEVENT
BEGIN:VTIMEZONE
TZID:Europe/Berlin
X-LIC-LOCATION:Europe/Berlin
BEGIN:DAYLIGHT
DTSTART;VALUE=DATE-TIME:20210328T030000
TZNAME:CEST
TZOFFSETFROM:+0100
TZOFFSETTO:+0200
END:DAYLIGHT
END:VTIMEZONE
END:VCALENDAR
