BEGIN:VCALENDAR
VERSION:2.0
PRODID:-//Plone.org//NONSGML plone.app.event//EN
X-WR-TIMEZONE:Europe/Berlin
BEGIN:VEVENT
SUMMARY:Daten visualisieren mit Python vom 7.–11. Juni 2021
DTSTART;TZID=Europe/Berlin;VALUE=DATE-TIME:20210607T090000
DTEND;TZID=Europe/Berlin;VALUE=DATE-TIME:20210611T170000
DTSTAMP;VALUE=DATE-TIME:20260422T133250Z
UID:5bf3068a6f3843709439f08768ed3042@old.cusy.io
ATTENDEE;CN="min. 1, max. 8 Personen; der dritte Mitarbeiter nimmt kostenf
 rei teil.";ROLE=REQ-PARTICIPANT:min. 1, max. 8 Personen; der dritte Mitarb
 eiter nimmt kostenfrei teil.
CATEGORIES:Training
CONTACT:Veit Schiele\, +49 30 22430082\, trainings@cusy.io
CREATED;VALUE=DATE-TIME:20210610T100256Z
LAST-MODIFIED;VALUE=DATE-TIME:20210816T083433Z
LOCATION:Online
URL:https://old.cusy.io/de/unsere-schulungsangebote/daten-visualisieren-mi
 t-python-vom-7-11-juni-2021
END:VEVENT
BEGIN:VTIMEZONE
TZID:Europe/Berlin
X-LIC-LOCATION:Europe/Berlin
BEGIN:DAYLIGHT
DTSTART;VALUE=DATE-TIME:20210328T030000
TZNAME:CEST
TZOFFSETFROM:+0100
TZOFFSETTO:+0200
END:DAYLIGHT
END:VTIMEZONE
END:VCALENDAR
