BEGIN:VCALENDAR
VERSION:2.0
PRODID:-//Plone.org//NONSGML plone.app.event//EN
X-WR-TIMEZONE:Europe/Berlin
BEGIN:VEVENT
SUMMARY:Daten visualisieren mit Python vom 15.–19. November 2021
DTSTART;TZID=Europe/Berlin;VALUE=DATE-TIME:20211115T090000
DTEND;TZID=Europe/Berlin;VALUE=DATE-TIME:20211119T170000
DTSTAMP;VALUE=DATE-TIME:20260422T133403Z
UID:fd90640575af4551b88586f080b28cd2@old.cusy.io
ATTENDEE;CN="min. 1, max. 8 Personen; der dritte Mitarbeiter nimmt kostenf
 rei teil.";ROLE=REQ-PARTICIPANT:min. 1, max. 8 Personen; der dritte Mitarb
 eiter nimmt kostenfrei teil.
CATEGORIES:Training
CONTACT:Veit Schiele\, +49 30 22430082\, trainings@cusy.io
CREATED;VALUE=DATE-TIME:20210610T100256Z
LAST-MODIFIED;VALUE=DATE-TIME:20210816T083402Z
LOCATION:Online
URL:https://old.cusy.io/de/unsere-schulungsangebote/daten-visualisieren-mi
 t-python-vom-15-19-11-2021
END:VEVENT
BEGIN:VTIMEZONE
TZID:Europe/Berlin
X-LIC-LOCATION:Europe/Berlin
BEGIN:STANDARD
DTSTART;VALUE=DATE-TIME:20211031T020000
TZNAME:CET
TZOFFSETFROM:+0200
TZOFFSETTO:+0100
END:STANDARD
END:VTIMEZONE
END:VCALENDAR
