BEGIN:VCALENDAR
VERSION:2.0
PRODID:-//Plone.org//NONSGML plone.app.event//EN
X-WR-TIMEZONE:Europe/Berlin
BEGIN:VEVENT
SUMMARY:Daten lesen und schreiben mit Python vom 25.–27. Oktober 2021
DTSTART;TZID=Europe/Berlin;VALUE=DATE-TIME:20211025T090000
DTEND;TZID=Europe/Berlin;VALUE=DATE-TIME:20211027T170000
DTSTAMP;VALUE=DATE-TIME:20260422T133729Z
UID:0a75e382e8334e3e8bf4790ab4a20f02@old.cusy.io
ATTENDEE;CN="min. 1, max. 8 Personen; der dritte Mitarbeiter nimmt kostenf
 rei teil.";ROLE=REQ-PARTICIPANT:min. 1, max. 8 Personen; der dritte Mitarb
 eiter nimmt kostenfrei teil.
CATEGORIES:Training
CONTACT:Veit Schiele\, +49 30 22430082\, trainings@cusy.io
CREATED;VALUE=DATE-TIME:20210610T100255Z
LAST-MODIFIED;VALUE=DATE-TIME:20210816T082633Z
LOCATION:Online
URL:https://old.cusy.io/de/unsere-schulungsangebote/daten-lesen-und-schrei
 ben-mit-python-vom-25-27-10-2021
END:VEVENT
BEGIN:VTIMEZONE
TZID:Europe/Berlin
X-LIC-LOCATION:Europe/Berlin
BEGIN:DAYLIGHT
DTSTART;VALUE=DATE-TIME:20210328T030000
TZNAME:CEST
TZOFFSETFROM:+0100
TZOFFSETTO:+0200
END:DAYLIGHT
END:VTIMEZONE
END:VCALENDAR
