BEGIN:VCALENDAR
VERSION:2.0
PRODID:-//Plone.org//NONSGML plone.app.event//EN
X-WR-TIMEZONE:Europe/Berlin
BEGIN:VEVENT
SUMMARY:Daten bereinigen und validieren vom 28.–29. Oktober 2021
DTSTART;TZID=Europe/Berlin;VALUE=DATE-TIME:20211028T090000
DTEND;TZID=Europe/Berlin;VALUE=DATE-TIME:20211029T170000
DTSTAMP;VALUE=DATE-TIME:20260422T133827Z
UID:3cc72e460bbd401a850d0f3bc9fad491@old.cusy.io
ATTENDEE;CN="min. 1, max. 8 Personen; der dritte Mitarbeiter nimmt kostenf
 rei teil.";ROLE=REQ-PARTICIPANT:min. 1, max. 8 Personen; der dritte Mitarb
 eiter nimmt kostenfrei teil.
CATEGORIES:Training
CONTACT:Veit Schiele\, +49 30 22430082\, trainings@cusy.io
CREATED;VALUE=DATE-TIME:20210610T100254Z
LAST-MODIFIED;VALUE=DATE-TIME:20210816T075612Z
LOCATION:Online
URL:https://old.cusy.io/de/unsere-schulungsangebote/daten-bereinigen-und-v
 alidieren-vom-28-29-oktober-2021
END:VEVENT
BEGIN:VTIMEZONE
TZID:Europe/Berlin
X-LIC-LOCATION:Europe/Berlin
BEGIN:DAYLIGHT
DTSTART;VALUE=DATE-TIME:20210328T030000
TZNAME:CEST
TZOFFSETFROM:+0100
TZOFFSETTO:+0200
END:DAYLIGHT
END:VTIMEZONE
END:VCALENDAR
