BEGIN:VCALENDAR
VERSION:2.0
PRODID:-//Plone.org//NONSGML plone.app.event//EN
X-WR-TIMEZONE:Europe/Berlin
BEGIN:VEVENT
SUMMARY:Code und Daten versioniert speichern vom 6.–8. September 2021
DTSTART;TZID=Europe/Berlin;VALUE=DATE-TIME:20210906T090000
DTEND;TZID=Europe/Berlin;VALUE=DATE-TIME:20210908T170000
DTSTAMP;VALUE=DATE-TIME:20260422T133721Z
UID:b181c3bca2ac4b4981397c8134f4be4d@old.cusy.io
ATTENDEE;CN="min. 1, max. 8 Personen; der dritte Mitarbeiter nimmt kostenf
 rei teil.";ROLE=REQ-PARTICIPANT:min. 1, max. 8 Personen; der dritte Mitarb
 eiter nimmt kostenfrei teil.
CATEGORIES:Training
CONTACT:Veit Schiele\, +49 30 22430082\, trainings@cusy.io
CREATED;VALUE=DATE-TIME:20210610T100253Z
LAST-MODIFIED;VALUE=DATE-TIME:20210816T083221Z
LOCATION:Online
URL:https://old.cusy.io/de/unsere-schulungsangebote/code-und-daten-version
 iert-speichern-vom-6-8-september-2021
END:VEVENT
BEGIN:VTIMEZONE
TZID:Europe/Berlin
X-LIC-LOCATION:Europe/Berlin
BEGIN:DAYLIGHT
DTSTART;VALUE=DATE-TIME:20210328T030000
TZNAME:CEST
TZOFFSETFROM:+0100
TZOFFSETTO:+0200
END:DAYLIGHT
END:VTIMEZONE
END:VCALENDAR
