BEGIN:VCALENDAR
VERSION:2.0
PRODID:-//Plone.org//NONSGML plone.app.event//EN
X-WR-TIMEZONE:Europe/Berlin
BEGIN:VEVENT
SUMMARY:Code und Daten versioniert speichern vom 29. November – 1. Dezem
 ber 2021
DTSTART;TZID=Europe/Berlin;VALUE=DATE-TIME:20211129T090000
DTEND;TZID=Europe/Berlin;VALUE=DATE-TIME:20211201T170000
DTSTAMP;VALUE=DATE-TIME:20260422T133730Z
UID:778453e52cc4405a832d3e5d118bf284@old.cusy.io
ATTENDEE;CN="min. 1, max. 8 Personen; der dritte Mitarbeiter nimmt kostenf
 rei teil.";ROLE=REQ-PARTICIPANT:min. 1, max. 8 Personen; der dritte Mitarb
 eiter nimmt kostenfrei teil.
CATEGORIES:Training
CONTACT:Veit Schiele\, +49 30 22430082\, trainings@cusy.io
CREATED;VALUE=DATE-TIME:20210610T100253Z
LAST-MODIFIED;VALUE=DATE-TIME:20200913T144430Z
LOCATION:Online
URL:https://old.cusy.io/de/unsere-schulungsangebote/code-und-daten-version
 iert-speichern-vom-29-11-01-12-2021
END:VEVENT
BEGIN:VTIMEZONE
TZID:Europe/Berlin
X-LIC-LOCATION:Europe/Berlin
BEGIN:STANDARD
DTSTART;VALUE=DATE-TIME:20211031T020000
TZNAME:CET
TZOFFSETFROM:+0200
TZOFFSETTO:+0100
END:STANDARD
END:VTIMEZONE
END:VCALENDAR
