BEGIN:VCALENDAR
VERSION:2.0
PRODID:-//Plone.org//NONSGML plone.app.event//EN
X-WR-TIMEZONE:Europe/Berlin
BEGIN:VEVENT
SUMMARY:Tübix 2025
DTSTART;VALUE=DATE:20250705
DTEND;VALUE=DATE:20250706
DTSTAMP;VALUE=DATE-TIME:20260422T133213Z
UID:36a118345c9840efb44b4cca56fdc67e@old.cusy.io
ATTENDEE;CN="Veit Schiele";ROLE=REQ-PARTICIPANT:Veit Schiele
ATTENDEE;CN="Andreas Jung";ROLE=REQ-PARTICIPANT:Andreas Jung
CATEGORIES:Featured
CONTACT:Veit Schiele\, +49 30 22430082\, info@cusy.io\, https://www.tuebix
 .org
CREATED;VALUE=DATE-TIME:20210610T100247Z
DESCRIPTION:Wir sind am 5. Juli 2025 auf der Tübix und freuen uns auf spa
 nnende Gespräche mit euch.
LAST-MODIFIED;VALUE=DATE-TIME:20250522T101936Z
LOCATION:Sand 14\, 72076 Tübingen
URL:https://old.cusy.io/de/ueber/trefft-uns/tuebix-2025
END:VEVENT
END:VCALENDAR
