BEGIN:VCALENDAR
VERSION:2.0
PRODID:-//Plone.org//NONSGML plone.app.event//EN
X-WR-TIMEZONE:Europe/Berlin
BEGIN:VEVENT
SUMMARY:Semicolon: „Wie Data Science die digitale Transformation vorantr
 eibt“
DTSTART;TZID=Europe/Berlin;VALUE=DATE-TIME:20220531T180000
DTEND;TZID=Europe/Berlin;VALUE=DATE-TIME:20220531T190000
DTSTAMP;VALUE=DATE-TIME:20260422T133738Z
UID:16324ca5992947a9bbde31ac16a75109@old.cusy.io
ATTENDEE;CN="Veit Schiele";ROLE=REQ-PARTICIPANT:Veit Schiele
CATEGORIES:Featured,Datenanalyse
CONTACT:Veit Schiele\, +49 30 22430082\, info@cusy.io\, https://gfu.net/se
 minare-schulungen-kurse/semicolon_sk73/wie_data_science_die_digitale_trans
 formation_voran_s2557.html
CREATED;VALUE=DATE-TIME:20220504T080844Z
DESCRIPTION:Am 31. Mai hält Veit Schiele einen Vortrag »Wie Data Science
  die digitale Transformation vorantreibt« in der Semicolon-Reihe der GFU.
LAST-MODIFIED;VALUE=DATE-TIME:20241123T090401Z
LOCATION:Remote
URL:https://old.cusy.io/de/ueber/trefft-uns/semicolon-wie-data-science-die
 -digitale-transformation-vorantreibt
END:VEVENT
BEGIN:VTIMEZONE
TZID:Europe/Berlin
X-LIC-LOCATION:Europe/Berlin
BEGIN:DAYLIGHT
DTSTART;VALUE=DATE-TIME:20220327T030000
TZNAME:CEST
TZOFFSETFROM:+0100
TZOFFSETTO:+0200
END:DAYLIGHT
END:VTIMEZONE
END:VCALENDAR
