BEGIN:VCALENDAR
VERSION:2.0
PRODID:-//Plone.org//NONSGML plone.app.event//EN
X-WR-TIMEZONE:Europe/Berlin
BEGIN:VEVENT
SUMMARY:Python Users Berlin: zopyx-fastapi-auth
DTSTART;TZID=Europe/Berlin;VALUE=DATE-TIME:20240711T190000
DTEND;TZID=Europe/Berlin;VALUE=DATE-TIME:20240711T220000
DTSTAMP;VALUE=DATE-TIME:20260422T132720Z
UID:ab5c32f2deba4abc90e7c66920c19e2c@old.cusy.io
ATTENDEE;CN="Andreas Jung";ROLE=REQ-PARTICIPANT:Andreas Jung
ATTENDEE;CN="Veit Schiele";ROLE=REQ-PARTICIPANT:Veit Schiele
CONTACT:Veit Schiele\, +49 30 22430082\, info@cusy.io\, https://www.meetup
 .com/python-users-berlin-pub/events/298857833/
CREATED;VALUE=DATE-TIME:20240529T175702Z
LAST-MODIFIED;VALUE=DATE-TIME:20240529T180845Z
LOCATION:Remote
URL:https://old.cusy.io/de/ueber/trefft-uns/python-users-berlin-zopyx-fast
 api-auth
END:VEVENT
BEGIN:VTIMEZONE
TZID:Europe/Berlin
X-LIC-LOCATION:Europe/Berlin
BEGIN:DAYLIGHT
DTSTART;VALUE=DATE-TIME:20240331T030000
TZNAME:CEST
TZOFFSETFROM:+0100
TZOFFSETTO:+0200
END:DAYLIGHT
END:VTIMEZONE
END:VCALENDAR
