BEGIN:VCALENDAR
VERSION:2.0
PRODID:-//Plone.org//NONSGML plone.app.event//EN
X-WR-TIMEZONE:Europe/Berlin
BEGIN:VEVENT
SUMMARY:PyData Berlin 2025
DTSTART;VALUE=DATE:20250901
DTEND;VALUE=DATE:20250902
DTSTAMP;VALUE=DATE-TIME:20260422T133250Z
UID:98d3890e76d94ed9bbc9ba1b9f6647f3@old.cusy.io
RRULE:FREQ=DAILY;COUNT=3
ATTENDEE;CN="Veit Schiele";ROLE=REQ-PARTICIPANT:Veit Schiele
CATEGORIES:Featured,Data Science,Open Source
CONTACT:Veit Schiele\, +49 30 22430082\, info@cusy.io\, https://pydata.org
 /berlin2025
CREATED;VALUE=DATE-TIME:20210610T100247Z
DESCRIPTION:Wir sind vom 1. bis 3. September 2025 auf der PyData in Berlin
  und freuen uns auf spannende Gespräche mit euch.
LAST-MODIFIED;VALUE=DATE-TIME:20250623T135405Z
LOCATION:bcc Berlin Congress Center\, Alexanderstr. 11\, 10178 Berlin
URL:https://old.cusy.io/de/ueber/trefft-uns/pydata-berlin-2025
END:VEVENT
END:VCALENDAR
